BEGIN:VCALENDAR
VERSION:2.0
PRODID:-//Chenla University - ECPv6.0.2//NONSGML v1.0//EN
CALSCALE:GREGORIAN
METHOD:PUBLISH
X-ORIGINAL-URL:https://clu-edu.com
X-WR-CALDESC:Events for Chenla University
REFRESH-INTERVAL;VALUE=DURATION:PT1H
X-Robots-Tag:noindex
X-PUBLISHED-TTL:PT1H
BEGIN:VTIMEZONE
TZID:UTC
BEGIN:STANDARD
TZOFFSETFROM:+0000
TZOFFSETTO:+0000
TZNAME:UTC
DTSTART:20240101T000000
END:STANDARD
END:VTIMEZONE
BEGIN:VEVENT
DTSTART;TZID=UTC:20240128T000000
DTEND;TZID=UTC:20240128T000000
DTSTAMP:20260420T183815
CREATED:20170124T133433Z
LAST-MODIFIED:20170124T133433Z
UID:2571-1706400000-1706400000@clu-edu.com
SUMMARY:Filming Objects and Sculpture
DESCRIPTION:Hey\, Luke! May the Force be with you. Look\, I ain’t in this for your revolution\, and I’m not in it for you\, Princess. I expect to be well paid. I’m in it for the money. Ye-ha! What good is a reward if you ain’t around to use it? Besides\, attacking that battle station ain’t my idea of courage. It’s more like…suicide. Hey\, Luke! May the Force be with you. But with the blast shield down\, I can’t even see! How am I supposed to fight?
URL:https://clu-edu.com/event/filming-objects-and-sculpture/
CATEGORIES:Nightlife
ATTACH;FMTTYPE=image/jpeg:https://clu-edu.com/wp-content/uploads/2017/01/colorful-1839233_1920.jpg
END:VEVENT
END:VCALENDAR